Package: GmicR Version: 1.20.0 Command: F:\biocbuild\bbs-3.20-bioc\R\bin\R.exe CMD check --no-multiarch --install=check:GmicR.install-out.txt --library=F:\biocbuild\bbs-3.20-bioc\R\library --no-vignettes --timings GmicR_1.20.0.tar.gz StartedAt: 2025-02-04 02:23:27 -0500 (Tue, 04 Feb 2025) EndedAt: 2025-02-04 02:43:45 -0500 (Tue, 04 Feb 2025) EllapsedTime: 1218.2 seconds RetCode: 0 Status: WARNINGS CheckDir: GmicR.Rcheck Warnings: 1