Package: GmicR Version: 1.20.0 Command: /home/biocbuild/R/R/bin/R CMD INSTALL GmicR StartedAt: 2025-02-10 20:53:12 -0000 (Mon, 10 Feb 2025) EndedAt: 2025-02-10 20:53:46 -0000 (Mon, 10 Feb 2025) EllapsedTime: 34.5 seconds RetCode: 0 Status: OK