Package: GrafGen Version: 1.2.0 Command: /Library/Frameworks/R.framework/Resources/bin/R CMD check --install=check:GrafGen.install-out.txt --library=/Library/Frameworks/R.framework/Resources/library --no-vignettes --timings GrafGen_1.2.0.tar.gz StartedAt: 2025-02-04 21:51:35 -0500 (Tue, 04 Feb 2025) EndedAt: 2025-02-04 21:53:30 -0500 (Tue, 04 Feb 2025) EllapsedTime: 115.1 seconds RetCode: 0 Status: OK CheckDir: GrafGen.Rcheck Warnings: 0