Package: GrafGen Version: 1.2.0 Command: /Library/Frameworks/R.framework/Resources/bin/R CMD build --keep-empty-dirs --no-resave-data GrafGen StartedAt: 2025-02-03 19:22:12 -0500 (Mon, 03 Feb 2025) EndedAt: 2025-02-03 19:23:30 -0500 (Mon, 03 Feb 2025) EllapsedTime: 78.9 seconds RetCode: 0 Status: OK PackageFile: GrafGen_1.2.0.tar.gz PackageFileSize: 3.103 MiB