Package: GrafGen Version: 1.2.0 Command: /Library/Frameworks/R.framework/Resources/bin/R CMD INSTALL GrafGen StartedAt: 2025-02-10 16:38:01 -0500 (Mon, 10 Feb 2025) EndedAt: 2025-02-10 16:38:56 -0500 (Mon, 10 Feb 2025) EllapsedTime: 54.1 seconds RetCode: 0 Status: OK