Package: GrafGen Version: 1.2.0 Command: /home/biocbuild/R/R/bin/R CMD build --keep-empty-dirs --no-resave-data GrafGen StartedAt: 2025-02-04 00:05:06 -0000 (Tue, 04 Feb 2025) EndedAt: 2025-02-04 00:05:51 -0000 (Tue, 04 Feb 2025) EllapsedTime: 45.0 seconds RetCode: 0 Status: OK PackageFile: GrafGen_1.2.0.tar.gz PackageFileSize: 3.022 MiB