Package: GraphAT Version: 1.78.0 Command: rm -rf GraphAT.buildbin-libdir && mkdir GraphAT.buildbin-libdir && /Users/biocbuild/BBS/utils/build-universal.sh GraphAT_1.78.0.tar.gz /Library/Frameworks/R.framework/Resources/bin/R GraphAT.buildbin-libdir StartedAt: 2025-02-05 16:07:42 -0500 (Wed, 05 Feb 2025) EndedAt: 2025-02-05 16:07:51 -0500 (Wed, 05 Feb 2025) EllapsedTime: 9.0 seconds RetCode: 0 Status: OK PackageFile: GraphAT_1.78.0.tgz PackageFileSize: 1.917 MiB