Package: GraphAT Version: 1.78.0 Command: rm -rf GraphAT.buildbin-libdir && mkdir GraphAT.buildbin-libdir && /Users/biocbuild/BBS/utils/build-universal.sh GraphAT_1.78.0.tar.gz /Library/Frameworks/R.framework/Resources/bin/R GraphAT.buildbin-libdir StartedAt: 2025-02-04 13:06:21 -0500 (Tue, 04 Feb 2025) EndedAt: 2025-02-04 13:06:39 -0500 (Tue, 04 Feb 2025) EllapsedTime: 17.9 seconds RetCode: 0 Status: OK PackageFile: GraphAT_1.78.0.tgz PackageFileSize: 1.917 MiB