Package: GraphAT Version: 1.78.0 Command: /home/biocbuild/bbs-3.20-bioc/R/bin/R CMD build --keep-empty-dirs --no-resave-data --md5 GraphAT StartedAt: 2025-02-10 17:33:45 -0500 (Mon, 10 Feb 2025) EndedAt: 2025-02-10 17:33:47 -0500 (Mon, 10 Feb 2025) EllapsedTime: 2.0 seconds RetCode: 0 Status: OK PackageFile: GraphAT_1.78.0.tar.gz PackageFileSize: 1.885 MiB