Package: GraphAT Version: 1.78.0 Command: chmod a+r GraphAT -R && F:\biocbuild\bbs-3.20-bioc\R\bin\R.exe CMD build --keep-empty-dirs --no-resave-data GraphAT StartedAt: 2025-02-03 19:35:47 -0500 (Mon, 03 Feb 2025) EndedAt: 2025-02-03 19:35:50 -0500 (Mon, 03 Feb 2025) EllapsedTime: 3.6 seconds RetCode: 0 Status: OK PackageFile: GraphAT_1.78.0.tar.gz PackageFileSize: 1.884 MiB