Package: GraphAT Version: 1.78.0 Command: /home/biocbuild/R/R/bin/R CMD INSTALL GraphAT StartedAt: 2025-02-03 21:08:37 -0000 (Mon, 03 Feb 2025) EndedAt: 2025-02-03 21:08:46 -0000 (Mon, 03 Feb 2025) EllapsedTime: 8.9 seconds RetCode: 0 Status: OK