Package: GraphAlignment Version: 1.70.0 Command: /Library/Frameworks/R.framework/Resources/bin/R CMD INSTALL GraphAlignment StartedAt: 2025-02-03 15:12:00 -0500 (Mon, 03 Feb 2025) EndedAt: 2025-02-03 15:12:16 -0500 (Mon, 03 Feb 2025) EllapsedTime: 16.6 seconds RetCode: 0 Status: OK