Package: GraphAlignment Version: 1.70.0 Command: /home/biocbuild/R/R/bin/R CMD INSTALL GraphAlignment StartedAt: 2025-02-10 20:08:18 -0000 (Mon, 10 Feb 2025) EndedAt: 2025-02-10 20:08:33 -0000 (Mon, 10 Feb 2025) EllapsedTime: 15.0 seconds RetCode: 0 Status: OK