Package: GreyListChIP Version: 1.38.0 Command: /Library/Frameworks/R.framework/Resources/bin/R CMD build --keep-empty-dirs --no-resave-data GreyListChIP StartedAt: 2025-02-03 19:23:54 -0500 (Mon, 03 Feb 2025) EndedAt: 2025-02-03 19:25:39 -0500 (Mon, 03 Feb 2025) EllapsedTime: 105.1 seconds RetCode: 0 Status: OK PackageFile: GreyListChIP_1.38.0.tar.gz PackageFileSize: 341.3 KiB