Package: GreyListChIP Version: 1.38.0 Command: /home/biocbuild/bbs-3.20-bioc/R/bin/R CMD check --install=check:GreyListChIP.install-out.txt --library=/home/biocbuild/bbs-3.20-bioc/R/site-library --timings GreyListChIP_1.38.0.tar.gz StartedAt: 2025-02-10 22:50:23 -0500 (Mon, 10 Feb 2025) EndedAt: 2025-02-10 22:55:01 -0500 (Mon, 10 Feb 2025) EllapsedTime: 278.4 seconds RetCode: 0 Status: OK CheckDir: GreyListChIP.Rcheck Warnings: 0