Package: GreyListChIP Version: 1.38.0 Command: rm -rf GreyListChIP.buildbin-libdir && mkdir GreyListChIP.buildbin-libdir && F:\biocbuild\bbs-3.20-bioc\R\bin\R.exe CMD INSTALL --build --library=GreyListChIP.buildbin-libdir GreyListChIP_1.38.0.tar.gz StartedAt: 2025-02-04 08:39:32 -0500 (Tue, 04 Feb 2025) EndedAt: 2025-02-04 08:41:29 -0500 (Tue, 04 Feb 2025) EllapsedTime: 117.4 seconds RetCode: 0 Status: OK PackageFile: GreyListChIP_1.38.0.zip PackageFileSize: 898.9 KiB