Package: GreyListChIP Version: 1.38.0 Command: F:\biocbuild\bbs-3.20-bioc\R\bin\R.exe CMD INSTALL GreyListChIP StartedAt: 2025-02-10 16:11:48 -0500 (Mon, 10 Feb 2025) EndedAt: 2025-02-10 16:12:50 -0500 (Mon, 10 Feb 2025) EllapsedTime: 62.2 seconds RetCode: 0 Status: OK