Package: Guitar Version: 2.22.0 Command: /Library/Frameworks/R.framework/Resources/bin/R CMD build --keep-empty-dirs --no-resave-data Guitar StartedAt: 2025-01-31 01:08:53 -0500 (Fri, 31 Jan 2025) EndedAt: 2025-01-31 01:22:14 -0500 (Fri, 31 Jan 2025) EllapsedTime: 800.7 seconds RetCode: 0 Status: OK PackageFile: Guitar_2.22.0.tar.gz PackageFileSize: 3.718 MiB