Package: Guitar Version: 2.22.0 Command: /Library/Frameworks/R.framework/Resources/bin/R CMD check --install=check:Guitar.install-out.txt --library=/Library/Frameworks/R.framework/Resources/library --no-vignettes --timings Guitar_2.22.0.tar.gz StartedAt: 2025-02-11 04:29:48 -0500 (Tue, 11 Feb 2025) EndedAt: 2025-02-11 04:41:21 -0500 (Tue, 11 Feb 2025) EllapsedTime: 693.3 seconds RetCode: 0 Status: OK CheckDir: Guitar.Rcheck Warnings: 0