Package: Guitar Version: 2.22.0 Command: /Library/Frameworks/R.framework/Resources/bin/R CMD INSTALL Guitar StartedAt: 2025-02-10 15:33:30 -0500 (Mon, 10 Feb 2025) EndedAt: 2025-02-10 15:34:50 -0500 (Mon, 10 Feb 2025) EllapsedTime: 80.1 seconds RetCode: 0 Status: OK