Package: Guitar Version: 2.22.0 Command: /home/biocbuild/bbs-3.20-bioc/R/bin/R CMD build --keep-empty-dirs --no-resave-data --md5 Guitar StartedAt: 2025-02-10 17:36:40 -0500 (Mon, 10 Feb 2025) EndedAt: 2025-02-10 17:46:28 -0500 (Mon, 10 Feb 2025) EllapsedTime: 587.8 seconds RetCode: 0 Status: OK PackageFile: Guitar_2.22.0.tar.gz PackageFileSize: 3.72 MiB