Package: Guitar Version: 2.22.0 Command: F:\biocbuild\bbs-3.20-bioc\R\bin\R.exe CMD INSTALL Guitar StartedAt: 2025-02-03 16:42:14 -0500 (Mon, 03 Feb 2025) EndedAt: 2025-02-03 16:42:58 -0500 (Mon, 03 Feb 2025) EllapsedTime: 43.6 seconds RetCode: 0 Status: OK