Package: Gviz Version: 1.50.0 Command: /Library/Frameworks/R.framework/Resources/bin/R CMD build --keep-empty-dirs --no-resave-data Gviz StartedAt: 2025-01-30 19:41:39 -0500 (Thu, 30 Jan 2025) EndedAt: 2025-01-30 19:51:15 -0500 (Thu, 30 Jan 2025) EllapsedTime: 576.4 seconds RetCode: 0 Status: OK PackageFile: Gviz_1.50.0.tar.gz PackageFileSize: 7.778 MiB