Package: Gviz Version: 1.50.0 Command: /Library/Frameworks/R.framework/Resources/bin/R CMD check --install=check:Gviz.install-out.txt --library=/Library/Frameworks/R.framework/Resources/library --no-vignettes --timings Gviz_1.50.0.tar.gz StartedAt: 2025-01-31 04:55:18 -0500 (Fri, 31 Jan 2025) EndedAt: 2025-01-31 05:12:27 -0500 (Fri, 31 Jan 2025) EllapsedTime: 1029.1 seconds RetCode: 0 Status: OK CheckDir: Gviz.Rcheck Warnings: 0