Package: Gviz Version: 1.50.0 Command: /Library/Frameworks/R.framework/Resources/bin/R CMD INSTALL Gviz StartedAt: 2025-01-30 16:01:19 -0500 (Thu, 30 Jan 2025) EndedAt: 2025-01-30 16:03:36 -0500 (Thu, 30 Jan 2025) EllapsedTime: 136.6 seconds RetCode: 0 Status: OK