Package: Gviz Version: 1.50.0 Command: /home/biocbuild/bbs-3.20-bioc/R/bin/R CMD build --keep-empty-dirs --no-resave-data --md5 Gviz StartedAt: 2025-01-30 17:34:45 -0500 (Thu, 30 Jan 2025) EndedAt: 2025-01-30 17:38:16 -0500 (Thu, 30 Jan 2025) EllapsedTime: 211.3 seconds RetCode: 0 Status: OK PackageFile: Gviz_1.50.0.tar.gz PackageFileSize: 7.322 MiB