Package: Gviz Version: 1.50.0 Command: rm -rf Gviz.buildbin-libdir && mkdir Gviz.buildbin-libdir && F:\biocbuild\bbs-3.20-bioc\R\bin\R.exe CMD INSTALL --build --library=Gviz.buildbin-libdir Gviz_1.50.0.tar.gz StartedAt: 2025-02-04 08:40:19 -0500 (Tue, 04 Feb 2025) EndedAt: 2025-02-04 08:42:35 -0500 (Tue, 04 Feb 2025) EllapsedTime: 136.2 seconds RetCode: 0 Status: OK PackageFile: Gviz_1.50.0.zip PackageFileSize: 5.96 MiB