Package: Gviz Version: 1.50.0 Command: chmod a+r Gviz -R && F:\biocbuild\bbs-3.20-bioc\R\bin\R.exe CMD build --keep-empty-dirs --no-resave-data Gviz StartedAt: 2025-02-03 19:39:21 -0500 (Mon, 03 Feb 2025) EndedAt: 2025-02-03 19:44:48 -0500 (Mon, 03 Feb 2025) EllapsedTime: 327.7 seconds RetCode: 0 Status: OK PackageFile: Gviz_1.50.0.tar.gz PackageFileSize: 5.93 MiB