Package: Gviz Version: 1.50.0 Command: /home/biocbuild/R/R/bin/R CMD build --keep-empty-dirs --no-resave-data Gviz StartedAt: 2025-01-31 00:11:29 -0000 (Fri, 31 Jan 2025) EndedAt: 2025-01-31 00:16:18 -0000 (Fri, 31 Jan 2025) EllapsedTime: 288.3 seconds RetCode: 0 Status: OK PackageFile: Gviz_1.50.0.tar.gz PackageFileSize: 6.376 MiB