Package: Gviz Version: 1.50.0 Command: /home/biocbuild/R/R/bin/R CMD check --install=check:Gviz.install-out.txt --library=/home/biocbuild/R/R/site-library --no-vignettes --timings Gviz_1.50.0.tar.gz StartedAt: 2025-02-04 07:43:06 -0000 (Tue, 04 Feb 2025) EndedAt: 2025-02-04 07:52:32 -0000 (Tue, 04 Feb 2025) EllapsedTime: 566.4 seconds RetCode: 0 Status: OK CheckDir: Gviz.Rcheck Warnings: 0