Package: Gviz Version: 1.50.0 Command: /home/biocbuild/R/R/bin/R CMD INSTALL Gviz StartedAt: 2025-02-03 20:56:57 -0000 (Mon, 03 Feb 2025) EndedAt: 2025-02-03 20:58:17 -0000 (Mon, 03 Feb 2025) EllapsedTime: 80.5 seconds RetCode: 0 Status: OK