Package: HDF5Array Version: 1.34.0 Command: rm -rf HDF5Array.buildbin-libdir && mkdir HDF5Array.buildbin-libdir && /Users/biocbuild/BBS/utils/build-universal.sh HDF5Array_1.34.0.tar.gz /Library/Frameworks/R.framework/Resources/bin/R HDF5Array.buildbin-libdir StartedAt: 2025-02-04 13:07:47 -0500 (Tue, 04 Feb 2025) EndedAt: 2025-02-04 13:08:59 -0500 (Tue, 04 Feb 2025) EllapsedTime: 72.2 seconds RetCode: 0 Status: OK PackageFile: HDF5Array_1.34.0.tgz PackageFileSize: 11.5 MiB