Package: HDF5Array Version: 1.34.0 Command: /Library/Frameworks/R.framework/Resources/bin/R CMD check --install=check:HDF5Array.install-out.txt --library=/Library/Frameworks/R.framework/Resources/library --no-vignettes --timings HDF5Array_1.34.0.tar.gz StartedAt: 2025-02-04 04:49:44 -0500 (Tue, 04 Feb 2025) EndedAt: 2025-02-04 05:00:30 -0500 (Tue, 04 Feb 2025) EllapsedTime: 645.4 seconds RetCode: 0 Status: WARNINGS CheckDir: HDF5Array.Rcheck Warnings: 2