Package: HDF5Array Version: 1.34.0 Command: /home/biocbuild/R/R/bin/R CMD INSTALL HDF5Array StartedAt: 2025-02-03 20:29:04 -0000 (Mon, 03 Feb 2025) EndedAt: 2025-02-03 20:29:39 -0000 (Mon, 03 Feb 2025) EllapsedTime: 34.4 seconds RetCode: 0 Status: OK