Package: HDTD Version: 1.40.0 Command: rm -rf HDTD.buildbin-libdir && mkdir HDTD.buildbin-libdir && /Users/biocbuild/BBS/utils/build-universal.sh HDTD_1.40.0.tar.gz /Library/Frameworks/R.framework/Resources/bin/R HDTD.buildbin-libdir StartedAt: 2025-02-01 15:15:18 -0500 (Sat, 01 Feb 2025) EndedAt: 2025-02-01 15:15:40 -0500 (Sat, 01 Feb 2025) EllapsedTime: 22.4 seconds RetCode: 0 Status: OK PackageFile: HDTD_1.40.0.tgz PackageFileSize: 301.7 KiB