Package: HDTD Version: 1.40.0 Command: /Library/Frameworks/R.framework/Resources/bin/R CMD build --keep-empty-dirs --no-resave-data HDTD StartedAt: 2025-01-31 01:16:57 -0500 (Fri, 31 Jan 2025) EndedAt: 2025-01-31 01:17:22 -0500 (Fri, 31 Jan 2025) EllapsedTime: 25.0 seconds RetCode: 0 Status: OK PackageFile: HDTD_1.40.0.tar.gz PackageFileSize: 162.8 KiB