Package: HDTD Version: 1.40.0 Command: /Library/Frameworks/R.framework/Resources/bin/R CMD check --install=check:HDTD.install-out.txt --library=/Library/Frameworks/R.framework/Resources/library --no-vignettes --timings HDTD_1.40.0.tar.gz StartedAt: 2025-01-31 21:42:38 -0500 (Fri, 31 Jan 2025) EndedAt: 2025-01-31 21:43:06 -0500 (Fri, 31 Jan 2025) EllapsedTime: 28.2 seconds RetCode: 0 Status: OK CheckDir: HDTD.Rcheck Warnings: 0