Package: HDTD Version: 1.40.0 Command: /Library/Frameworks/R.framework/Resources/bin/R CMD INSTALL HDTD StartedAt: 2025-01-30 15:07:51 -0500 (Thu, 30 Jan 2025) EndedAt: 2025-01-30 15:08:21 -0500 (Thu, 30 Jan 2025) EllapsedTime: 30.5 seconds RetCode: 0 Status: OK