Package: HDTD Version: 1.40.0 Command: rm -rf HDTD.buildbin-libdir && mkdir HDTD.buildbin-libdir && /Users/biocbuild/BBS/utils/build-universal.sh HDTD_1.40.0.tar.gz /Library/Frameworks/R.framework/Resources/bin/R HDTD.buildbin-libdir StartedAt: 2025-01-31 12:57:24 -0500 (Fri, 31 Jan 2025) EndedAt: 2025-01-31 12:58:08 -0500 (Fri, 31 Jan 2025) EllapsedTime: 44.4 seconds RetCode: 0 Status: OK PackageFile: HDTD_1.40.0.tgz PackageFileSize: 318.2 KiB