Package: HDTD Version: 1.40.0 Command: F:\biocbuild\bbs-3.20-bioc\R\bin\R.exe CMD INSTALL HDTD StartedAt: 2025-01-30 15:21:12 -0500 (Thu, 30 Jan 2025) EndedAt: 2025-01-30 15:23:09 -0500 (Thu, 30 Jan 2025) EllapsedTime: 116.9 seconds RetCode: 0 Status: OK