Package: HELP Version: 1.64.0 Command: /Library/Frameworks/R.framework/Resources/bin/R CMD build --keep-empty-dirs --no-resave-data HELP StartedAt: 2025-02-11 01:25:11 -0500 (Tue, 11 Feb 2025) EndedAt: 2025-02-11 01:25:31 -0500 (Tue, 11 Feb 2025) EllapsedTime: 19.4 seconds RetCode: 0 Status: OK PackageFile: HELP_1.64.0.tar.gz PackageFileSize: 997.3 KiB