Package: HELP Version: 1.64.0 Command: /Library/Frameworks/R.framework/Resources/bin/R CMD check --install=check:HELP.install-out.txt --library=/Library/Frameworks/R.framework/Resources/library --no-vignettes --timings HELP_1.64.0.tar.gz StartedAt: 2025-02-11 21:54:24 -0500 (Tue, 11 Feb 2025) EndedAt: 2025-02-11 21:55:04 -0500 (Tue, 11 Feb 2025) EllapsedTime: 39.5 seconds RetCode: 0 Status: OK CheckDir: HELP.Rcheck Warnings: 0