Package: HELP Version: 1.64.0 Command: /Library/Frameworks/R.framework/Resources/bin/R CMD INSTALL HELP StartedAt: 2025-02-03 15:10:30 -0500 (Mon, 03 Feb 2025) EndedAt: 2025-02-03 15:10:34 -0500 (Mon, 03 Feb 2025) EllapsedTime: 4.8 seconds RetCode: 0 Status: OK