Package: HELP Version: 1.64.0 Command: /home/biocbuild/R/R/bin/R CMD check --install=check:HELP.install-out.txt --library=/home/biocbuild/R/R/site-library --no-vignettes --timings HELP_1.64.0.tar.gz StartedAt: 2024-11-20 08:42:44 -0000 (Wed, 20 Nov 2024) EndedAt: 2024-11-20 08:53:51 -0000 (Wed, 20 Nov 2024) EllapsedTime: 667.1 seconds RetCode: 0 Status: OK CheckDir: HELP.Rcheck Warnings: 0