Package: HELP Version: 1.64.0 Command: /Library/Frameworks/R.framework/Resources/bin/R CMD build --keep-empty-dirs --no-resave-data HELP StartedAt: 2025-01-30 19:46:45 -0500 (Thu, 30 Jan 2025) EndedAt: 2025-01-30 19:47:40 -0500 (Thu, 30 Jan 2025) EllapsedTime: 55.1 seconds RetCode: 0 Status: OK PackageFile: HELP_1.64.0.tar.gz PackageFileSize: 996.5 KiB