Package: HELP Version: 1.64.0 Command: /home/biocbuild/R/R/bin/R CMD INSTALL HELP StartedAt: 2025-02-03 20:22:04 -0000 (Mon, 03 Feb 2025) EndedAt: 2025-02-03 20:22:13 -0000 (Mon, 03 Feb 2025) EllapsedTime: 9.6 seconds RetCode: 0 Status: OK