Package: HEM Version: 1.78.0 Command: rm -rf HEM.buildbin-libdir && mkdir HEM.buildbin-libdir && /Users/biocbuild/BBS/utils/build-universal.sh HEM_1.78.0.tar.gz /Library/Frameworks/R.framework/Resources/bin/R HEM.buildbin-libdir StartedAt: 2025-02-05 16:11:35 -0500 (Wed, 05 Feb 2025) EndedAt: 2025-02-05 16:11:43 -0500 (Wed, 05 Feb 2025) EllapsedTime: 8.1 seconds RetCode: 0 Status: OK PackageFile: HEM_1.78.0.tgz PackageFileSize: 714.6 KiB