Package: HEM Version: 1.78.0 Command: /Library/Frameworks/R.framework/Resources/bin/R CMD check --install=check:HEM.install-out.txt --library=/Library/Frameworks/R.framework/Resources/library --no-vignettes --timings HEM_1.78.0.tar.gz StartedAt: 2025-02-11 21:55:04 -0500 (Tue, 11 Feb 2025) EndedAt: 2025-02-11 21:55:41 -0500 (Tue, 11 Feb 2025) EllapsedTime: 37.5 seconds RetCode: 0 Status: WARNINGS CheckDir: HEM.Rcheck Warnings: 1