Package: HEM Version: 1.78.0 Command: /Library/Frameworks/R.framework/Resources/bin/R CMD INSTALL HEM StartedAt: 2025-02-10 15:04:28 -0500 (Mon, 10 Feb 2025) EndedAt: 2025-02-10 15:04:34 -0500 (Mon, 10 Feb 2025) EllapsedTime: 6.2 seconds RetCode: 0 Status: OK