Package: HEM Version: 1.78.0 Command: /Library/Frameworks/R.framework/Resources/bin/R CMD build --keep-empty-dirs --no-resave-data HEM StartedAt: 2025-02-03 19:33:13 -0500 (Mon, 03 Feb 2025) EndedAt: 2025-02-03 19:33:41 -0500 (Mon, 03 Feb 2025) EllapsedTime: 28.3 seconds RetCode: 0 Status: OK PackageFile: HEM_1.78.0.tar.gz PackageFileSize: 611.6 KiB